Package: Maaslin2 Version: 1.20.0 Command: F:\biocbuild\bbs-3.20-bioc\R\bin\R.exe CMD INSTALL Maaslin2 StartedAt: 2025-03-31 16:37:49 -0400 (Mon, 31 Mar 2025) EndedAt: 2025-03-31 16:38:14 -0400 (Mon, 31 Mar 2025) EllapsedTime: 24.6 seconds RetCode: 0 Status: OK