Package: Maaslin2 Version: 1.20.0 Command: /home/biocbuild/bbs-3.20-bioc/R/bin/R CMD build --keep-empty-dirs --no-resave-data --md5 Maaslin2 StartedAt: 2025-03-31 17:50:14 -0400 (Mon, 31 Mar 2025) EndedAt: 2025-03-31 17:51:55 -0400 (Mon, 31 Mar 2025) EllapsedTime: 101.1 seconds RetCode: 0 Status: OK PackageFile: Maaslin2_1.20.0.tar.gz PackageFileSize: 545.1 KiB