Package: Maaslin2 Version: 1.20.0 Command: /Library/Frameworks/R.framework/Resources/bin/R CMD build --keep-empty-dirs --no-resave-data Maaslin2 StartedAt: 2025-04-01 02:09:05 -0400 (Tue, 01 Apr 2025) EndedAt: 2025-04-01 02:11:02 -0400 (Tue, 01 Apr 2025) EllapsedTime: 117.1 seconds RetCode: 0 Status: OK PackageFile: Maaslin2_1.20.0.tar.gz PackageFileSize: 544.5 KiB