Package: MWASTools Version: 1.30.0 Command: /Library/Frameworks/R.framework/Resources/bin/R CMD build --keep-empty-dirs --no-resave-data MWASTools StartedAt: 2025-03-31 20:30:50 -0400 (Mon, 31 Mar 2025) EndedAt: 2025-03-31 20:32:52 -0400 (Mon, 31 Mar 2025) EllapsedTime: 122.1 seconds RetCode: 0 Status: OK PackageFile: MWASTools_1.30.0.tar.gz PackageFileSize: 2.106 MiB