Package: MWASTools Version: 1.30.0 Command: rm -rf MWASTools.buildbin-libdir && mkdir MWASTools.buildbin-libdir && /Users/biocbuild/BBS/utils/build-universal.sh MWASTools_1.30.0.tar.gz /Library/Frameworks/R.framework/Resources/bin/R MWASTools.buildbin-libdir StartedAt: 2025-04-02 15:24:43 -0400 (Wed, 02 Apr 2025) EndedAt: 2025-04-02 15:25:24 -0400 (Wed, 02 Apr 2025) EllapsedTime: 41.2 seconds RetCode: 0 Status: OK PackageFile: MWASTools_1.30.0.tgz PackageFileSize: 2.101 MiB