Package: MSstatsQCgui Version: 1.26.0 Command: /home/biocbuild/bbs-3.20-bioc/R/bin/R CMD check --install=check:MSstatsQCgui.install-out.txt --library=/home/biocbuild/bbs-3.20-bioc/R/site-library --timings MSstatsQCgui_1.26.0.tar.gz StartedAt: 2025-04-01 00:17:26 -0400 (Tue, 01 Apr 2025) EndedAt: 2025-04-01 00:21:25 -0400 (Tue, 01 Apr 2025) EllapsedTime: 239.3 seconds RetCode: 0 Status: OK CheckDir: MSstatsQCgui.Rcheck Warnings: 0