Package: MSstatsQCgui Version: 1.26.0 Command: /Library/Frameworks/R.framework/Resources/bin/R CMD INSTALL MSstatsQCgui StartedAt: 2025-03-31 17:01:43 -0400 (Mon, 31 Mar 2025) EndedAt: 2025-03-31 17:02:24 -0400 (Mon, 31 Mar 2025) EllapsedTime: 40.7 seconds RetCode: 0 Status: OK