Package: MSstatsPTM Version: 2.8.1 Command: /home/biocbuild/R/R/bin/R CMD INSTALL MSstatsPTM StartedAt: 2025-03-31 20:59:14 -0000 (Mon, 31 Mar 2025) EndedAt: 2025-03-31 20:59:51 -0000 (Mon, 31 Mar 2025) EllapsedTime: 36.8 seconds RetCode: 0 Status: OK