Package: MSstatsPTM Version: 2.8.1 Command: /Library/Frameworks/R.framework/Resources/bin/R CMD check --install=check:MSstatsPTM.install-out.txt --library=/Library/Frameworks/R.framework/Resources/library --no-vignettes --timings MSstatsPTM_2.8.1.tar.gz StartedAt: 2025-04-01 06:12:18 -0400 (Tue, 01 Apr 2025) EndedAt: 2025-04-01 06:19:51 -0400 (Tue, 01 Apr 2025) EllapsedTime: 453.7 seconds RetCode: 0 Status: OK CheckDir: MSstatsPTM.Rcheck Warnings: 0