Package: MSstatsLiP Version: 1.12.0 Command: /home/biocbuild/R/R/bin/R CMD build --keep-empty-dirs --no-resave-data MSstatsLiP StartedAt: 2025-04-01 01:02:14 -0000 (Tue, 01 Apr 2025) EndedAt: 2025-04-01 01:03:27 -0000 (Tue, 01 Apr 2025) EllapsedTime: 73.0 seconds RetCode: 0 Status: OK PackageFile: MSstatsLiP_1.12.0.tar.gz PackageFileSize: 1.454 MiB