Package: MSstatsLiP Version: 1.12.0 Command: /home/biocbuild/bbs-3.20-bioc/R/bin/R CMD INSTALL MSstatsLiP StartedAt: 2025-03-31 16:00:30 -0400 (Mon, 31 Mar 2025) EndedAt: 2025-03-31 16:00:55 -0400 (Mon, 31 Mar 2025) EllapsedTime: 24.6 seconds RetCode: 0 Status: OK