Package: MSstatsLiP Version: 1.12.0 Command: /home/biocbuild/bbs-3.20-bioc/R/bin/R CMD check --install=check:MSstatsLiP.install-out.txt --library=/home/biocbuild/bbs-3.20-bioc/R/site-library --timings MSstatsLiP_1.12.0.tar.gz StartedAt: 2025-04-01 00:16:20 -0400 (Tue, 01 Apr 2025) EndedAt: 2025-04-01 00:20:03 -0400 (Tue, 01 Apr 2025) EllapsedTime: 223.2 seconds RetCode: 1 Status: ERROR CheckDir: MSstatsLiP.Rcheck Warnings: NA