Package: MSstatsLOBD Version: 1.14.0 Command: /home/biocbuild/R/R/bin/R CMD build --keep-empty-dirs --no-resave-data MSstatsLOBD StartedAt: 2025-04-01 01:02:24 -0000 (Tue, 01 Apr 2025) EndedAt: 2025-04-01 01:02:48 -0000 (Tue, 01 Apr 2025) EllapsedTime: 24.0 seconds RetCode: 0 Status: OK PackageFile: MSstatsLOBD_1.14.0.tar.gz PackageFileSize: 183.3 KiB