Package: MSstatsLOBD Version: 1.14.0 Command: /home/biocbuild/bbs-3.20-bioc/R/bin/R CMD build --keep-empty-dirs --no-resave-data --md5 MSstatsLOBD StartedAt: 2025-03-31 18:12:58 -0400 (Mon, 31 Mar 2025) EndedAt: 2025-03-31 18:13:16 -0400 (Mon, 31 Mar 2025) EllapsedTime: 18.0 seconds RetCode: 0 Status: OK PackageFile: MSstatsLOBD_1.14.0.tar.gz PackageFileSize: 376.4 KiB