Package: MSstatsLOBD Version: 1.14.0 Command: /Library/Frameworks/R.framework/Resources/bin/R CMD build --keep-empty-dirs --no-resave-data MSstatsLOBD StartedAt: 2025-03-31 20:25:39 -0400 (Mon, 31 Mar 2025) EndedAt: 2025-03-31 20:26:27 -0400 (Mon, 31 Mar 2025) EllapsedTime: 47.8 seconds RetCode: 0 Status: OK PackageFile: MSstatsLOBD_1.14.0.tar.gz PackageFileSize: 339.6 KiB