Package: MSstatsLOBD Version: 1.14.0 Command: /Library/Frameworks/R.framework/Resources/bin/R CMD build --keep-empty-dirs --no-resave-data MSstatsLOBD StartedAt: 2025-04-01 03:54:36 -0400 (Tue, 01 Apr 2025) EndedAt: 2025-04-01 03:55:01 -0400 (Tue, 01 Apr 2025) EllapsedTime: 24.4 seconds RetCode: 0 Status: OK PackageFile: MSstatsLOBD_1.14.0.tar.gz PackageFileSize: 338.7 KiB