Package: MSstatsConvert Version: 1.16.1 Command: /home/biocbuild/R/R/bin/R CMD build --keep-empty-dirs --no-resave-data MSstatsConvert StartedAt: 2025-04-01 01:02:14 -0000 (Tue, 01 Apr 2025) EndedAt: 2025-04-01 01:02:24 -0000 (Tue, 01 Apr 2025) EllapsedTime: 10.0 seconds RetCode: 0 Status: OK PackageFile: MSstatsConvert_1.16.1.tar.gz PackageFileSize: 1.803 MiB