Package: MSstatsConvert Version: 1.16.1 Command: /Library/Frameworks/R.framework/Resources/bin/R CMD build --keep-empty-dirs --no-resave-data MSstatsConvert StartedAt: 2025-03-31 20:24:50 -0400 (Mon, 31 Mar 2025) EndedAt: 2025-03-31 20:25:20 -0400 (Mon, 31 Mar 2025) EllapsedTime: 29.4 seconds RetCode: 0 Status: OK PackageFile: MSstatsConvert_1.16.1.tar.gz PackageFileSize: 1.802 MiB