Package: MSstatsBig Version: 1.4.0 Command: /home/biocbuild/R/R/bin/R CMD build --keep-empty-dirs --no-resave-data MSstatsBig StartedAt: 2025-04-01 01:01:53 -0000 (Tue, 01 Apr 2025) EndedAt: 2025-04-01 01:02:14 -0000 (Tue, 01 Apr 2025) EllapsedTime: 21.0 seconds RetCode: 0 Status: OK PackageFile: MSstatsBig_1.4.0.tar.gz PackageFileSize: 70.93 KiB