Package: MSstatsBig Version: 1.4.0 Command: /Library/Frameworks/R.framework/Resources/bin/R CMD build --keep-empty-dirs --no-resave-data MSstatsBig StartedAt: 2025-03-31 20:24:49 -0400 (Mon, 31 Mar 2025) EndedAt: 2025-03-31 20:25:39 -0400 (Mon, 31 Mar 2025) EllapsedTime: 50.2 seconds RetCode: 0 Status: OK PackageFile: MSstatsBig_1.4.0.tar.gz PackageFileSize: 70.2 KiB