Package: MSstats Version: 4.14.2 Command: /Library/Frameworks/R.framework/Resources/bin/R CMD INSTALL MSstats StartedAt: 2025-03-31 16:09:44 -0400 (Mon, 31 Mar 2025) EndedAt: 2025-03-31 16:11:11 -0400 (Mon, 31 Mar 2025) EllapsedTime: 87.2 seconds RetCode: 0 Status: OK