Package: MSstats Version: 4.14.2 Command: /Library/Frameworks/R.framework/Resources/bin/R CMD build --keep-empty-dirs --no-resave-data MSstats StartedAt: 2025-03-31 20:24:31 -0400 (Mon, 31 Mar 2025) EndedAt: 2025-03-31 20:27:26 -0400 (Mon, 31 Mar 2025) EllapsedTime: 174.8 seconds RetCode: 0 Status: OK PackageFile: MSstats_4.14.2.tar.gz PackageFileSize: 469.5 KiB