Package: MSnbase Version: 2.32.0 Command: /home/biocbuild/R/R/bin/R CMD check --install=check:MSnbase.install-out.txt --library=/home/biocbuild/R/R/site-library --no-vignettes --timings MSnbase_2.32.0.tar.gz StartedAt: 2025-04-01 08:38:13 -0000 (Tue, 01 Apr 2025) EndedAt: 2025-04-01 08:57:06 -0000 (Tue, 01 Apr 2025) EllapsedTime: 1132.6 seconds RetCode: 0 Status: OK CheckDir: MSnbase.Rcheck Warnings: 0