Package: MSnbase Version: 2.32.0 Command: rm -rf MSnbase.buildbin-libdir && mkdir MSnbase.buildbin-libdir && /Users/biocbuild/BBS/utils/build-universal.sh MSnbase_2.32.0.tar.gz /Library/Frameworks/R.framework/Resources/bin/R MSnbase.buildbin-libdir StartedAt: 2025-04-01 12:18:49 -0400 (Tue, 01 Apr 2025) EndedAt: 2025-04-01 12:21:37 -0400 (Tue, 01 Apr 2025) EllapsedTime: 168.1 seconds RetCode: 0 Status: OK PackageFile: MSnbase_2.32.0.tgz PackageFileSize: 8.905 MiB