Package: MSnbase Version: 2.32.0 Command: /Library/Frameworks/R.framework/Resources/bin/R CMD build --keep-empty-dirs --no-resave-data MSnbase StartedAt: 2025-04-01 03:50:22 -0400 (Tue, 01 Apr 2025) EndedAt: 2025-04-01 03:54:11 -0400 (Tue, 01 Apr 2025) EllapsedTime: 229.4 seconds RetCode: 0 Status: OK PackageFile: MSnbase_2.32.0.tar.gz PackageFileSize: 6.108 MiB