Package: MSnID Version: 1.40.0 Command: /home/biocbuild/R/R/bin/R CMD check --install=check:MSnID.install-out.txt --library=/home/biocbuild/R/R/site-library --no-vignettes --timings MSnID_1.40.0.tar.gz StartedAt: 2025-04-01 08:38:43 -0000 (Tue, 01 Apr 2025) EndedAt: 2025-04-01 08:47:06 -0000 (Tue, 01 Apr 2025) EllapsedTime: 502.6 seconds RetCode: 1 Status: ERROR CheckDir: MSnID.Rcheck Warnings: NA