Package: MSnID Version: 1.40.0 Command: /Library/Frameworks/R.framework/Resources/bin/R CMD build --keep-empty-dirs --no-resave-data MSnID StartedAt: 2025-04-01 03:51:15 -0400 (Tue, 01 Apr 2025) EndedAt: 2025-04-01 03:53:49 -0400 (Tue, 01 Apr 2025) EllapsedTime: 154.1 seconds RetCode: 0 Status: OK PackageFile: MSnID_1.40.0.tar.gz PackageFileSize: 3.002 MiB