Package: MSPrep Version: 1.16.0 Command: /home/biocbuild/R/R/bin/R CMD build --keep-empty-dirs --no-resave-data MSPrep StartedAt: 2025-04-01 01:01:02 -0000 (Tue, 01 Apr 2025) EndedAt: 2025-04-01 01:04:11 -0000 (Tue, 01 Apr 2025) EllapsedTime: 189.1 seconds RetCode: 0 Status: OK PackageFile: MSPrep_1.16.0.tar.gz PackageFileSize: 1.64 MiB