Package: MSPrep Version: 1.16.0 Command: chmod a+r MSPrep -R && F:\biocbuild\bbs-3.20-bioc\R\bin\R.exe CMD build --keep-empty-dirs --no-resave-data MSPrep StartedAt: 2025-03-31 20:24:37 -0400 (Mon, 31 Mar 2025) EndedAt: 2025-03-31 20:27:37 -0400 (Mon, 31 Mar 2025) EllapsedTime: 179.7 seconds RetCode: 0 Status: OK PackageFile: MSPrep_1.16.0.tar.gz PackageFileSize: 1.574 MiB