Package: MSA2dist Version: 1.10.1 Command: F:\biocbuild\bbs-3.20-bioc\R\bin\R.exe CMD INSTALL MSA2dist StartedAt: 2025-03-31 15:42:28 -0400 (Mon, 31 Mar 2025) EndedAt: 2025-03-31 15:44:06 -0400 (Mon, 31 Mar 2025) EllapsedTime: 97.8 seconds RetCode: 0 Status: OK