Package: MSA2dist Version: 1.10.1 Command: chmod a+r MSA2dist -R && F:\biocbuild\bbs-3.20-bioc\R\bin\R.exe CMD build --keep-empty-dirs --no-resave-data MSA2dist StartedAt: 2025-03-31 20:22:31 -0400 (Mon, 31 Mar 2025) EndedAt: 2025-03-31 20:24:37 -0400 (Mon, 31 Mar 2025) EllapsedTime: 126.2 seconds RetCode: 0 Status: OK PackageFile: MSA2dist_1.10.1.tar.gz PackageFileSize: 681.6 KiB