Package: MSA2dist Version: 1.10.1 Command: rm -rf MSA2dist.buildbin-libdir && mkdir MSA2dist.buildbin-libdir && F:\biocbuild\bbs-3.20-bioc\R\bin\R.exe CMD INSTALL --build --library=MSA2dist.buildbin-libdir MSA2dist_1.10.1.tar.gz StartedAt: 2025-04-01 08:40:59 -0400 (Tue, 01 Apr 2025) EndedAt: 2025-04-01 08:42:25 -0400 (Tue, 01 Apr 2025) EllapsedTime: 86.7 seconds RetCode: 0 Status: OK PackageFile: MSA2dist_1.10.1.zip PackageFileSize: 1.27 MiB