Package: MSA2dist Version: 1.10.1 Command: /Library/Frameworks/R.framework/Resources/bin/R CMD INSTALL MSA2dist StartedAt: 2025-03-31 15:41:04 -0400 (Mon, 31 Mar 2025) EndedAt: 2025-03-31 15:43:22 -0400 (Mon, 31 Mar 2025) EllapsedTime: 137.5 seconds RetCode: 0 Status: OK