Package: MSA2dist Version: 1.10.1 Command: rm -rf MSA2dist.buildbin-libdir && mkdir MSA2dist.buildbin-libdir && /Users/biocbuild/BBS/utils/build-universal.sh MSA2dist_1.10.1.tar.gz /Library/Frameworks/R.framework/Resources/bin/R MSA2dist.buildbin-libdir StartedAt: 2025-04-01 12:17:53 -0400 (Tue, 01 Apr 2025) EndedAt: 2025-04-01 12:20:18 -0400 (Tue, 01 Apr 2025) EllapsedTime: 145.0 seconds RetCode: 0 Status: OK PackageFile: MSA2dist_1.10.1.tgz PackageFileSize: 1.156 MiB