Package: MSA2dist Version: 1.10.1 Command: /Library/Frameworks/R.framework/Resources/bin/R CMD build --keep-empty-dirs --no-resave-data MSA2dist StartedAt: 2025-04-01 03:45:22 -0400 (Tue, 01 Apr 2025) EndedAt: 2025-04-01 03:46:48 -0400 (Tue, 01 Apr 2025) EllapsedTime: 85.9 seconds RetCode: 0 Status: OK PackageFile: MSA2dist_1.10.1.tar.gz PackageFileSize: 878 KiB