Package: MSA2dist Version: 1.10.1 Command: rm -rf MSA2dist.buildbin-libdir && mkdir MSA2dist.buildbin-libdir && /Users/biocbuild/BBS/utils/build-universal.sh MSA2dist_1.10.1.tar.gz /Library/Frameworks/R.framework/Resources/bin/R MSA2dist.buildbin-libdir StartedAt: 2025-04-02 15:18:10 -0400 (Wed, 02 Apr 2025) EndedAt: 2025-04-02 15:19:24 -0400 (Wed, 02 Apr 2025) EllapsedTime: 73.1 seconds RetCode: 0 Status: OK PackageFile: MSA2dist_1.10.1.tgz PackageFileSize: 1.133 MiB