Package: MQmetrics Version: 1.14.0 Command: chmod a+r MQmetrics -R && F:\biocbuild\bbs-3.20-bioc\R\bin\R.exe CMD build --keep-empty-dirs --no-resave-data MQmetrics StartedAt: 2025-03-31 20:22:18 -0400 (Mon, 31 Mar 2025) EndedAt: 2025-03-31 20:22:46 -0400 (Mon, 31 Mar 2025) EllapsedTime: 27.7 seconds RetCode: 1 Status: ERROR PackageFile: None PackageFileSize: NA