Package: MPRAnalyze Version: 1.24.0 Command: /home/biocbuild/R/R/bin/R CMD build --keep-empty-dirs --no-resave-data MPRAnalyze StartedAt: 2025-04-01 00:58:14 -0000 (Tue, 01 Apr 2025) EndedAt: 2025-04-01 00:59:55 -0000 (Tue, 01 Apr 2025) EllapsedTime: 101.0 seconds RetCode: 0 Status: OK PackageFile: MPRAnalyze_1.24.0.tar.gz PackageFileSize: 416.9 KiB