Package: MOSim Version: 2.2.0 Command: /home/biocbuild/R/R/bin/R CMD INSTALL MOSim StartedAt: 2025-03-31 21:04:50 -0000 (Mon, 31 Mar 2025) EndedAt: 2025-03-31 21:05:47 -0000 (Mon, 31 Mar 2025) EllapsedTime: 56.5 seconds RetCode: 0 Status: OK