Package: MOSim Version: 2.2.0 Command: rm -rf MOSim.buildbin-libdir && mkdir MOSim.buildbin-libdir && F:\biocbuild\bbs-3.20-bioc\R\bin\R.exe CMD INSTALL --build --library=MOSim.buildbin-libdir MOSim_2.2.0.tar.gz StartedAt: 2025-04-01 08:40:11 -0400 (Tue, 01 Apr 2025) EndedAt: 2025-04-01 08:41:18 -0400 (Tue, 01 Apr 2025) EllapsedTime: 67.2 seconds RetCode: 0 Status: OK PackageFile: MOSim_2.2.0.zip PackageFileSize: 6.76 MiB