Package: MOSim Version: 2.2.0 Command: /home/biocbuild/bbs-3.20-bioc/R/bin/R CMD build --keep-empty-dirs --no-resave-data --md5 MOSim StartedAt: 2025-03-31 18:08:42 -0400 (Mon, 31 Mar 2025) EndedAt: 2025-03-31 18:14:27 -0400 (Mon, 31 Mar 2025) EllapsedTime: 345.4 seconds RetCode: 0 Status: OK PackageFile: MOSim_2.2.0.tar.gz PackageFileSize: 5.941 MiB