Package: MOSim Version: 2.2.0 Command: rm -rf MOSim.buildbin-libdir && mkdir MOSim.buildbin-libdir && /Users/biocbuild/BBS/utils/build-universal.sh MOSim_2.2.0.tar.gz /Library/Frameworks/R.framework/Resources/bin/R MOSim.buildbin-libdir StartedAt: 2025-04-02 15:16:29 -0400 (Wed, 02 Apr 2025) EndedAt: 2025-04-02 15:17:19 -0400 (Wed, 02 Apr 2025) EllapsedTime: 49.8 seconds RetCode: 0 Status: OK PackageFile: MOSim_2.2.0.tgz PackageFileSize: 6.448 MiB