Package: MOMA Version: 1.18.0 Command: /home/biocbuild/R/R/bin/R CMD check --install=check:MOMA.install-out.txt --library=/home/biocbuild/R/R/site-library --no-vignettes --timings MOMA_1.18.0.tar.gz StartedAt: 2025-04-01 08:29:36 -0000 (Tue, 01 Apr 2025) EndedAt: 2025-04-01 08:33:30 -0000 (Tue, 01 Apr 2025) EllapsedTime: 234.3 seconds RetCode: 0 Status: OK CheckDir: MOMA.Rcheck Warnings: 0