Package: MOMA Version: 1.18.0 Command: /home/biocbuild/bbs-3.20-bioc/R/bin/R CMD check --install=check:MOMA.install-out.txt --library=/home/biocbuild/bbs-3.20-bioc/R/site-library --timings MOMA_1.18.0.tar.gz StartedAt: 2025-04-01 00:05:10 -0400 (Tue, 01 Apr 2025) EndedAt: 2025-04-01 00:09:50 -0400 (Tue, 01 Apr 2025) EllapsedTime: 280.3 seconds RetCode: 0 Status: OK CheckDir: MOMA.Rcheck Warnings: 0