Package: MOMA Version: 1.18.0 Command: /Library/Frameworks/R.framework/Resources/bin/R CMD build --keep-empty-dirs --no-resave-data MOMA StartedAt: 2025-04-01 03:32:23 -0400 (Tue, 01 Apr 2025) EndedAt: 2025-04-01 03:34:41 -0400 (Tue, 01 Apr 2025) EllapsedTime: 137.3 seconds RetCode: 0 Status: OK PackageFile: MOMA_1.18.0.tar.gz PackageFileSize: 4.263 MiB