Package: MOGAMUN Version: 1.16.0 Command: /home/biocbuild/R/R/bin/R CMD INSTALL MOGAMUN StartedAt: 2025-03-31 20:51:07 -0000 (Mon, 31 Mar 2025) EndedAt: 2025-03-31 20:51:16 -0000 (Mon, 31 Mar 2025) EllapsedTime: 9.1 seconds RetCode: 0 Status: OK