Package: MOGAMUN Version: 1.16.0 Command: /Library/Frameworks/R.framework/Resources/bin/R CMD build --keep-empty-dirs --no-resave-data MOGAMUN StartedAt: 2025-04-01 03:31:14 -0400 (Tue, 01 Apr 2025) EndedAt: 2025-04-01 03:31:29 -0400 (Tue, 01 Apr 2025) EllapsedTime: 14.8 seconds RetCode: 0 Status: OK PackageFile: MOGAMUN_1.16.0.tar.gz PackageFileSize: 125.9 KiB