Package: MOFA2 Version: 1.16.0 Command: /Library/Frameworks/R.framework/Resources/bin/R CMD build --keep-empty-dirs --no-resave-data MOFA2 StartedAt: 2025-04-01 03:30:49 -0400 (Tue, 01 Apr 2025) EndedAt: 2025-04-01 03:32:53 -0400 (Tue, 01 Apr 2025) EllapsedTime: 123.7 seconds RetCode: 0 Status: OK PackageFile: MOFA2_1.16.0.tar.gz PackageFileSize: 4.355 MiB