Package: MODA Version: 1.32.0 Command: /home/biocbuild/bbs-3.20-bioc/R/bin/R CMD check --install=check:MODA.install-out.txt --library=/home/biocbuild/bbs-3.20-bioc/R/site-library --timings MODA_1.32.0.tar.gz StartedAt: 2025-04-01 00:03:08 -0400 (Tue, 01 Apr 2025) EndedAt: 2025-04-01 00:05:10 -0400 (Tue, 01 Apr 2025) EllapsedTime: 122.1 seconds RetCode: 0 Status: OK CheckDir: MODA.Rcheck Warnings: 0