Package: MODA Version: 1.32.0 Command: /Library/Frameworks/R.framework/Resources/bin/R CMD check --install=check:MODA.install-out.txt --library=/Library/Frameworks/R.framework/Resources/library --no-vignettes --timings MODA_1.32.0.tar.gz StartedAt: 2025-04-01 05:51:24 -0400 (Tue, 01 Apr 2025) EndedAt: 2025-04-01 05:55:53 -0400 (Tue, 01 Apr 2025) EllapsedTime: 269.8 seconds RetCode: 0 Status: OK CheckDir: MODA.Rcheck Warnings: 0